BEGIN:VCALENDAR
VERSION:2.0
PRODID:-//wp-events-plugin.com//7.2.3.1//EN
TZID:Europe/Madrid
X-WR-TIMEZONE:Europe/Madrid
BEGIN:VEVENT
UID:742@yerbabuena.tur.ar
DTSTART;TZID=America/Argentina/Tucuman:20260212T180000
DTEND;TZID=America/Argentina/Tucuman:20260212T193000
DTSTAMP:20260210T130937Z
URL:https://yerbabuena.tur.ar/events/caminata-sin-valentin-2/
SUMMARY:Caminata SIN Valentín
DESCRIPTION:Llega la 11ª edición del ciclo que ya es un clásico en nuest
 ra ciudad. Te invitamos a disfrutar de una agenda cargada de actividades i
 mperdibles para compartir con quien quieras 🫂\n\n🌿 DISFRUTÁ DE NUES
 TRAS YUNGAS\nJueves 12 (18 a 19:30 hs): Caminata SIN Valentín 🙌\n\n
 📍 Punto de salida: Tótem Experiencia Yungas.\n📲 Consultas e info: 3
 814580551
ATTACH;FMTTYPE=image/jpeg:https://yerbabuena.tur.ar/wp-content/uploads/202
 6/02/caminata-sin-valentin.jpg
CATEGORIES:Circuito Verde,Trekking,Yerba Buena Enamora
LOCATION:Totem "Experiencia Yungas"\, Av. Perón 2800\, Yerba Buena\, Tucum
 án\, 4107\, Argentina
X-APPLE-STRUCTURED-LOCATION;VALUE=URI;X-ADDRESS=Av. Perón 2800\, Yerba Bue
 na\, Tucumán\, 4107\, Argentina;X-APPLE-RADIUS=100;X-TITLE=Totem \"Experi
 encia Yungas\":geo:0,0
END:VEVENT
BEGIN:VTIMEZONE
TZID:America/Argentina/Tucuman
X-LIC-LOCATION:America/Argentina/Tucuman
BEGIN:STANDARD
DTSTART:20250212T180000
TZOFFSETFROM:-0300
TZOFFSETTO:-0300
TZNAME:-03
END:STANDARD
END:VTIMEZONE
END:VCALENDAR